BEGIN:VCALENDAR
VERSION:2.0
PRODID:-//The Historical Society of Harford County - ECPv6.15.20//NONSGML v1.0//EN
CALSCALE:GREGORIAN
METHOD:PUBLISH
X-WR-CALNAME:The Historical Society of Harford County
X-ORIGINAL-URL:https://dev.harfordhistory.org
X-WR-CALDESC:Events for The Historical Society of Harford County
REFRESH-INTERVAL;VALUE=DURATION:PT1H
X-Robots-Tag:noindex
X-PUBLISHED-TTL:PT1H
BEGIN:VTIMEZONE
TZID:America/New_York
BEGIN:DAYLIGHT
TZOFFSETFROM:-0500
TZOFFSETTO:-0400
TZNAME:EDT
DTSTART:20220313T070000
END:DAYLIGHT
BEGIN:STANDARD
TZOFFSETFROM:-0400
TZOFFSETTO:-0500
TZNAME:EST
DTSTART:20221106T060000
END:STANDARD
BEGIN:DAYLIGHT
TZOFFSETFROM:-0500
TZOFFSETTO:-0400
TZNAME:EDT
DTSTART:20230312T070000
END:DAYLIGHT
BEGIN:STANDARD
TZOFFSETFROM:-0400
TZOFFSETTO:-0500
TZNAME:EST
DTSTART:20231105T060000
END:STANDARD
BEGIN:DAYLIGHT
TZOFFSETFROM:-0500
TZOFFSETTO:-0400
TZNAME:EDT
DTSTART:20240310T070000
END:DAYLIGHT
BEGIN:STANDARD
TZOFFSETFROM:-0400
TZOFFSETTO:-0500
TZNAME:EST
DTSTART:20241103T060000
END:STANDARD
BEGIN:DAYLIGHT
TZOFFSETFROM:-0500
TZOFFSETTO:-0400
TZNAME:EDT
DTSTART:20250309T070000
END:DAYLIGHT
BEGIN:STANDARD
TZOFFSETFROM:-0400
TZOFFSETTO:-0500
TZNAME:EST
DTSTART:20251102T060000
END:STANDARD
END:VTIMEZONE
BEGIN:VEVENT
DTSTART;TZID=America/New_York:20231111T140000
DTEND;TZID=America/New_York:20231111T140000
DTSTAMP:20260421T103927
CREATED:20230323T155003Z
LAST-MODIFIED:20231025T191014Z
UID:10000066-1699711200-1699711200@dev.harfordhistory.org
SUMMARY:The Historical Society's Annual Lecture
DESCRIPTION:Featuring author Ned Tillman discussing his newly released novel\, Good Endeavor: A Maryland Family’s Turbulent History 1695 – 2002
URL:https://dev.harfordhistory.org/event/in-their-own-words-harford-in-the-20th-century-stories/
LOCATION:The Historical Society of Harford County\, 143 N Main St.\, Bel Air\, MD\, 21014\, United States
CATEGORIES:Archer Lecture & Tea
ATTACH;FMTTYPE=image/jpeg:https://dev.harfordhistory.org/wp-content/uploads/2023/03/Artboard-1@4x-100-scaled.jpg
GEO:39.5386805;-76.3524738
X-APPLE-STRUCTURED-LOCATION;VALUE=URI;X-ADDRESS=The Historical Society of Harford County 143 N Main St. Bel Air MD 21014 United States;X-APPLE-RADIUS=500;X-TITLE=143 N Main St.:geo:-76.3524738,39.5386805
END:VEVENT
BEGIN:VEVENT
DTSTART;TZID=America/New_York:20231114T123000
DTEND;TZID=America/New_York:20231114T123000
DTSTAMP:20260421T103927
CREATED:20230323T155116Z
LAST-MODIFIED:20231103T194155Z
UID:10000067-1699965000-1699965000@dev.harfordhistory.org
SUMMARY:Old Line Plate: Kara Mae Harris Introduces Her New Holiday Cookbook
DESCRIPTION:Join us for a virtual presentation on Tuesday\, November 14 at 12:30 p.m. featuring celebrated Maryland cookbook author Kara Mae Harris as she introduces her newest publication Festive Maryland Recipes. The book features holiday recipes that are significant to Maryland. The recipes were collected while gathering several oral histories and researching traditions related to various holidays. The author worked with recipe developer Rachel Rappaport to ensure the book had a balanced mix of savory and sweet dishes. The recipes came from Maryland cookbooks\, newspapers\, and food historians.
URL:https://dev.harfordhistory.org/event/old-line-plate-stories-and-recipes-from-maryland/
LOCATION:Online Event
CATEGORIES:Brown Bag Lunch Series
ATTACH;FMTTYPE=image/jpeg:https://dev.harfordhistory.org/wp-content/uploads/2023/03/oldline.jpg
END:VEVENT
BEGIN:VEVENT
DTSTART;TZID=America/New_York:20231124T190000
DTEND;TZID=America/New_York:20231124T203000
DTSTAMP:20260421T103927
CREATED:20231023T145606Z
LAST-MODIFIED:20231025T164137Z
UID:10000184-1700852400-1700857800@dev.harfordhistory.org
SUMMARY:SPIRITS OF CHRISTMAS PAST: CANDLELIGHT CHRISTMAS TOUR
DESCRIPTION:Everyone is invited to join us for a unique Christmas adventure. This is your chance to learn about Christmas in days gone by while wandering through Bel Air’s Winter Wonderland. The Society is pleased to announce its first annual Candlelight Christmas Tour led by docent\, Julie Brasch. Participants will enjoy Christmas stories of days gone by\, caroling\, a small Christmas treat and much more. Tours will begin on Friday\, November 24\, and run every Friday and Saturday until December 16. The one-and-a-half-hour tour will begin at the Historical Society\, 143 N. Main Street in Bel Air at 7 p.m. Along the way\, participants will learn about the many holiday traditions that have developed over time and hear unique stories about local traditions. Free parking is available on the Society’s lot located behind the building. Tour groups will be limited to 20 people and pre-registration is required. \nTickets will not be available at the door.
URL:https://dev.harfordhistory.org/event/spirits-of-christmas-past-candlelight-christmas-tour-2/
LOCATION:The Historical Society of Harford County\, 143 N Main St.\, Bel Air\, MD\, 21014\, United States
CATEGORIES:Community Events
ATTACH;FMTTYPE=image/jpeg:https://dev.harfordhistory.org/wp-content/uploads/2023/10/SoC-Graphic@4x-100.jpg
GEO:39.5386805;-76.3524738
X-APPLE-STRUCTURED-LOCATION;VALUE=URI;X-ADDRESS=The Historical Society of Harford County 143 N Main St. Bel Air MD 21014 United States;X-APPLE-RADIUS=500;X-TITLE=143 N Main St.:geo:-76.3524738,39.5386805
END:VEVENT
BEGIN:VEVENT
DTSTART;TZID=America/New_York:20231125T190000
DTEND;TZID=America/New_York:20231125T203000
DTSTAMP:20260421T103927
CREATED:20231023T145617Z
LAST-MODIFIED:20231025T164130Z
UID:10000185-1700938800-1700944200@dev.harfordhistory.org
SUMMARY:SPIRITS OF CHRISTMAS PAST: CANDLELIGHT CHRISTMAS TOUR
DESCRIPTION:Everyone is invited to join us for a unique Christmas adventure. This is your chance to learn about Christmas in days gone by while wandering through Bel Air’s Winter Wonderland. The Society is pleased to announce its first annual Candlelight Christmas Tour led by docent\, Julie Brasch. Participants will enjoy Christmas stories of days gone by\, caroling\, a small Christmas treat and much more. Tours will begin on Friday\, November 24\, and run every Friday and Saturday until December 16. The one-and-a-half-hour tour will begin at the Historical Society\, 143 N. Main Street in Bel Air at 7 p.m. Along the way\, participants will learn about the many holiday traditions that have developed over time and hear unique stories about local traditions. Free parking is available on the Society’s lot located behind the building. Tour groups will be limited to 20 people and pre-registration is required. \nTickets will not be available at the door.
URL:https://dev.harfordhistory.org/event/spirits-of-christmas-past-candlelight-christmas-tour-3/
LOCATION:The Historical Society of Harford County\, 143 N Main St.\, Bel Air\, MD\, 21014\, United States
CATEGORIES:Community Events
ATTACH;FMTTYPE=image/jpeg:https://dev.harfordhistory.org/wp-content/uploads/2023/10/SoC-Graphic@4x-100.jpg
GEO:39.5386805;-76.3524738
X-APPLE-STRUCTURED-LOCATION;VALUE=URI;X-ADDRESS=The Historical Society of Harford County 143 N Main St. Bel Air MD 21014 United States;X-APPLE-RADIUS=500;X-TITLE=143 N Main St.:geo:-76.3524738,39.5386805
END:VEVENT
BEGIN:VEVENT
DTSTART;TZID=America/New_York:20231201T190000
DTEND;TZID=America/New_York:20231201T203000
DTSTAMP:20260421T103927
CREATED:20231023T145634Z
LAST-MODIFIED:20231201T220544Z
UID:10000186-1701457200-1701462600@dev.harfordhistory.org
SUMMARY:SPIRITS OF CHRISTMAS PAST: CANDLELIGHT CHRISTMAS TOUR
DESCRIPTION:Everyone is invited to join us for a unique Christmas adventure. This is your chance to learn about Christmas in days gone by while wandering through Bel Air’s Winter Wonderland. The Society is pleased to announce its first annual Candlelight Christmas Tour led by docent\, Julie Brasch. Participants will enjoy Christmas stories of days gone by\, caroling\, a small Christmas treat and much more. Tours will begin on Friday\, November 24\, and run every Friday and Saturday until December 16. The one-and-a-half-hour tour will begin at the Historical Society\, 143 N. Main Street in Bel Air at 7 p.m. Along the way\, participants will learn about the many holiday traditions that have developed over time and hear unique stories about local traditions. Free parking is available on the Society’s lot located behind the building. Tour groups will be limited to 20 people and pre-registration is required. \nTickets will not be available at the door.
URL:https://dev.harfordhistory.org/event/spirits-of-christmas-past-candlelight-christmas-tour-4/
LOCATION:The Historical Society of Harford County\, 143 N Main St.\, Bel Air\, MD\, 21014\, United States
CATEGORIES:Community Events
ATTACH;FMTTYPE=image/jpeg:https://dev.harfordhistory.org/wp-content/uploads/2023/10/SoC-Graphic@4x-100.jpg
GEO:39.5386805;-76.3524738
X-APPLE-STRUCTURED-LOCATION;VALUE=URI;X-ADDRESS=The Historical Society of Harford County 143 N Main St. Bel Air MD 21014 United States;X-APPLE-RADIUS=500;X-TITLE=143 N Main St.:geo:-76.3524738,39.5386805
END:VEVENT
BEGIN:VEVENT
DTSTART;TZID=America/New_York:20231202T190000
DTEND;TZID=America/New_York:20231202T203000
DTSTAMP:20260421T103927
CREATED:20231023T145638Z
LAST-MODIFIED:20231025T164119Z
UID:10000187-1701543600-1701549000@dev.harfordhistory.org
SUMMARY:SPIRITS OF CHRISTMAS PAST: CANDLELIGHT CHRISTMAS TOUR
DESCRIPTION:Everyone is invited to join us for a unique Christmas adventure. This is your chance to learn about Christmas in days gone by while wandering through Bel Air’s Winter Wonderland. The Society is pleased to announce its first annual Candlelight Christmas Tour led by docent\, Julie Brasch. Participants will enjoy Christmas stories of days gone by\, caroling\, a small Christmas treat and much more. Tours will begin on Friday\, November 24\, and run every Friday and Saturday until December 16. The one-and-a-half-hour tour will begin at the Historical Society\, 143 N. Main Street in Bel Air at 7 p.m. Along the way\, participants will learn about the many holiday traditions that have developed over time and hear unique stories about local traditions. Free parking is available on the Society’s lot located behind the building. Tour groups will be limited to 20 people and pre-registration is required. \nTickets will not be available at the door.
URL:https://dev.harfordhistory.org/event/spirits-of-christmas-past-candlelight-christmas-tour-5/
LOCATION:The Historical Society of Harford County\, 143 N Main St.\, Bel Air\, MD\, 21014\, United States
CATEGORIES:Community Events
ATTACH;FMTTYPE=image/jpeg:https://dev.harfordhistory.org/wp-content/uploads/2023/10/SoC-Graphic@4x-100.jpg
GEO:39.5386805;-76.3524738
X-APPLE-STRUCTURED-LOCATION;VALUE=URI;X-ADDRESS=The Historical Society of Harford County 143 N Main St. Bel Air MD 21014 United States;X-APPLE-RADIUS=500;X-TITLE=143 N Main St.:geo:-76.3524738,39.5386805
END:VEVENT
BEGIN:VEVENT
DTSTART;TZID=America/New_York:20231208T190000
DTEND;TZID=America/New_York:20231208T203000
DTSTAMP:20260421T103927
CREATED:20231023T145641Z
LAST-MODIFIED:20231025T164106Z
UID:10000188-1702062000-1702067400@dev.harfordhistory.org
SUMMARY:SPIRITS OF CHRISTMAS PAST: CANDLELIGHT CHRISTMAS TOUR
DESCRIPTION:Everyone is invited to join us for a unique Christmas adventure. This is your chance to learn about Christmas in days gone by while wandering through Bel Air’s Winter Wonderland. The Society is pleased to announce its first annual Candlelight Christmas Tour led by docent\, Julie Brasch. Participants will enjoy Christmas stories of days gone by\, caroling\, a small Christmas treat and much more. Tours will begin on Friday\, November 24\, and run every Friday and Saturday until December 16. The one-and-a-half-hour tour will begin at the Historical Society\, 143 N. Main Street in Bel Air at 7 p.m. Along the way\, participants will learn about the many holiday traditions that have developed over time and hear unique stories about local traditions. Free parking is available on the Society’s lot located behind the building. Tour groups will be limited to 20 people and pre-registration is required. \nTickets will not be available at the door.
URL:https://dev.harfordhistory.org/event/spirits-of-christmas-past-candlelight-christmas-tour-6/
LOCATION:The Historical Society of Harford County\, 143 N Main St.\, Bel Air\, MD\, 21014\, United States
CATEGORIES:Community Events
ATTACH;FMTTYPE=image/jpeg:https://dev.harfordhistory.org/wp-content/uploads/2023/10/SoC-Graphic@4x-100.jpg
GEO:39.5386805;-76.3524738
X-APPLE-STRUCTURED-LOCATION;VALUE=URI;X-ADDRESS=The Historical Society of Harford County 143 N Main St. Bel Air MD 21014 United States;X-APPLE-RADIUS=500;X-TITLE=143 N Main St.:geo:-76.3524738,39.5386805
END:VEVENT
BEGIN:VEVENT
DTSTART;TZID=America/New_York:20231209T190000
DTEND;TZID=America/New_York:20231209T203000
DTSTAMP:20260421T103927
CREATED:20231023T145646Z
LAST-MODIFIED:20231025T164039Z
UID:10000189-1702148400-1702153800@dev.harfordhistory.org
SUMMARY:SPIRITS OF CHRISTMAS PAST: CANDLELIGHT CHRISTMAS TOUR
DESCRIPTION:Everyone is invited to join us for a unique Christmas adventure. This is your chance to learn about Christmas in days gone by while wandering through Bel Air’s Winter Wonderland. The Society is pleased to announce its first annual Candlelight Christmas Tour led by docent\, Julie Brasch. Participants will enjoy Christmas stories of days gone by\, caroling\, a small Christmas treat and much more. Tours will begin on Friday\, November 24\, and run every Friday and Saturday until December 16. The one-and-a-half-hour tour will begin at the Historical Society\, 143 N. Main Street in Bel Air at 7 p.m. Along the way\, participants will learn about the many holiday traditions that have developed over time and hear unique stories about local traditions. Free parking is available on the Society’s lot located behind the building. Tour groups will be limited to 20 people and pre-registration is required. \nTickets will not be available at the door.
URL:https://dev.harfordhistory.org/event/spirits-of-christmas-past-candlelight-christmas-tour-7/
LOCATION:The Historical Society of Harford County\, 143 N Main St.\, Bel Air\, MD\, 21014\, United States
CATEGORIES:Community Events
ATTACH;FMTTYPE=image/jpeg:https://dev.harfordhistory.org/wp-content/uploads/2023/10/SoC-Graphic@4x-100.jpg
GEO:39.5386805;-76.3524738
X-APPLE-STRUCTURED-LOCATION;VALUE=URI;X-ADDRESS=The Historical Society of Harford County 143 N Main St. Bel Air MD 21014 United States;X-APPLE-RADIUS=500;X-TITLE=143 N Main St.:geo:-76.3524738,39.5386805
END:VEVENT
BEGIN:VEVENT
DTSTART;TZID=America/New_York:20231215T190000
DTEND;TZID=America/New_York:20231215T203000
DTSTAMP:20260421T103927
CREATED:20231023T145708Z
LAST-MODIFIED:20231025T164018Z
UID:10000190-1702666800-1702672200@dev.harfordhistory.org
SUMMARY:SPIRITS OF CHRISTMAS PAST: CANDLELIGHT CHRISTMAS TOUR
DESCRIPTION:Everyone is invited to join us for a unique Christmas adventure. This is your chance to learn about Christmas in days gone by while wandering through Bel Air’s Winter Wonderland. The Society is pleased to announce its first annual Candlelight Christmas Tour led by docent\, Julie Brasch. Participants will enjoy Christmas stories of days gone by\, caroling\, a small Christmas treat and much more. Tours will begin on Friday\, November 24\, and run every Friday and Saturday until December 16. The one-and-a-half-hour tour will begin at the Historical Society\, 143 N. Main Street in Bel Air at 7 p.m. Along the way\, participants will learn about the many holiday traditions that have developed over time and hear unique stories about local traditions. Free parking is available on the Society’s lot located behind the building. Tour groups will be limited to 20 people and pre-registration is required. \nTickets will not be available at the door.
URL:https://dev.harfordhistory.org/event/spirits-of-christmas-past-candlelight-christmas-tour-8/
LOCATION:The Historical Society of Harford County\, 143 N Main St.\, Bel Air\, MD\, 21014\, United States
CATEGORIES:Community Events
ATTACH;FMTTYPE=image/jpeg:https://dev.harfordhistory.org/wp-content/uploads/2023/10/SoC-Graphic@4x-100.jpg
GEO:39.5386805;-76.3524738
X-APPLE-STRUCTURED-LOCATION;VALUE=URI;X-ADDRESS=The Historical Society of Harford County 143 N Main St. Bel Air MD 21014 United States;X-APPLE-RADIUS=500;X-TITLE=143 N Main St.:geo:-76.3524738,39.5386805
END:VEVENT
BEGIN:VEVENT
DTSTART;TZID=America/New_York:20231216T190000
DTEND;TZID=America/New_York:20231216T203000
DTSTAMP:20260421T103927
CREATED:20231023T145713Z
LAST-MODIFIED:20231025T163854Z
UID:10000191-1702753200-1702758600@dev.harfordhistory.org
SUMMARY:SPIRITS OF CHRISTMAS PAST: CANDLELIGHT CHRISTMAS TOUR
DESCRIPTION:Everyone is invited to join us for a unique Christmas adventure. This is your chance to learn about Christmas in days gone by while wandering through Bel Air’s Winter Wonderland. The Society is pleased to announce its first annual Candlelight Christmas Tour led by docent\, Julie Brasch. Participants will enjoy Christmas stories of days gone by\, caroling\, a small Christmas treat and much more. Tours will begin on Friday\, November 24\, and run every Friday and Saturday until December 16. The one-and-a-half-hour tour will begin at the Historical Society\, 143 N. Main Street in Bel Air at 7 p.m. Along the way\, participants will learn about the many holiday traditions that have developed over time and hear unique stories about local traditions. Free parking is available on the Society’s lot located behind the building. Tour groups will be limited to 20 people and pre-registration is required. \nTickets will not be available at the door.
URL:https://dev.harfordhistory.org/event/spirits-of-christmas-past-candlelight-christmas-tour-9/
LOCATION:The Historical Society of Harford County\, 143 N Main St.\, Bel Air\, MD\, 21014\, United States
CATEGORIES:Community Events
ATTACH;FMTTYPE=image/jpeg:https://dev.harfordhistory.org/wp-content/uploads/2023/10/SoC-Graphic@4x-100.jpg
GEO:39.5386805;-76.3524738
X-APPLE-STRUCTURED-LOCATION;VALUE=URI;X-ADDRESS=The Historical Society of Harford County 143 N Main St. Bel Air MD 21014 United States;X-APPLE-RADIUS=500;X-TITLE=143 N Main St.:geo:-76.3524738,39.5386805
END:VEVENT
BEGIN:VEVENT
DTSTART;TZID=America/New_York:20231229T190000
DTEND;TZID=America/New_York:20231229T203000
DTSTAMP:20260421T103927
CREATED:20231220T202546Z
LAST-MODIFIED:20231220T203238Z
UID:10000196-1703876400-1703881800@dev.harfordhistory.org
SUMMARY:SPIRITS OF CHRISTMAS PAST: CANDLELIGHT CHRISTMAS TOUR
DESCRIPTION:Response has been so incredible to this year’s Christmas tours that we have decided to extend them for one more weekend. Everyone is invited to join us for this unique holiday adventure. This is your chance to learn about Christmas and the New Years holidays in days gone by while wandering through Bel Air’s Winter Wonderland. \nThe Society is pleased to present the Spirits of Christmas Past Candlelight Tour led by docent\, Julie Brasch. Participants will enjoy Christmas and New Years stories of days gone by\, caroling\, a small Christmas treat and much more. Tours will be held on Friday\, December 29\, and Saturday December 30. \nThe one-and-a-half-hour tour will begin at the Historical Society\, 143 N. Main Street in Bel Air at 7 p.m. Along the way\, participants will learn about the many holiday traditions that have developed over time and hear unique stories about local traditions. Free parking is available on the Society’s lot located behind the building. Tour groups will be limited to 20 people and pre-registration is required. \nTickets will not be available at the door.
URL:https://dev.harfordhistory.org/event/spirits-of-christmas-past-candlelight-christmas-tour/
LOCATION:The Historical Society of Harford County\, 143 N Main St.\, Bel Air\, MD\, 21014\, United States
CATEGORIES:Community Events
ATTACH;FMTTYPE=image/jpeg:https://dev.harfordhistory.org/wp-content/uploads/2023/10/SoC-Graphic@4x-100.jpg
GEO:39.5386805;-76.3524738
X-APPLE-STRUCTURED-LOCATION;VALUE=URI;X-ADDRESS=The Historical Society of Harford County 143 N Main St. Bel Air MD 21014 United States;X-APPLE-RADIUS=500;X-TITLE=143 N Main St.:geo:-76.3524738,39.5386805
END:VEVENT
BEGIN:VEVENT
DTSTART;TZID=America/New_York:20231230T190000
DTEND;TZID=America/New_York:20231230T203000
DTSTAMP:20260421T103927
CREATED:20231220T203027Z
LAST-MODIFIED:20231220T203526Z
UID:10000197-1703962800-1703968200@dev.harfordhistory.org
SUMMARY:SPIRITS OF CHRISTMAS PAST: CANDLELIGHT CHRISTMAS TOUR
DESCRIPTION:Response has been so incredible to this year’s Christmas tours that we have decided to extend them for one more weekend. Everyone is invited to join us for this unique holiday adventure. This is your chance to learn about Christmas and the New Years holidays in days gone by while wandering through Bel Air’s Winter Wonderland. \nThe Society is pleased to present the Spirits of Christmas Past Candlelight Tour led by docent\, Julie Brasch. Participants will enjoy Christmas and New Years stories of days gone by\, caroling\, a small Christmas treat and much more. Tours will be held on Friday\, December 29\, and Saturday December 30. \nThe one-and-a-half-hour tour will begin at the Historical Society\, 143 N. Main Street in Bel Air at 7 p.m. Along the way\, participants will learn about the many holiday traditions that have developed over time and hear unique stories about local traditions. Free parking is available on the Society’s lot located behind the building. Tour groups will be limited to 20 people and pre-registration is required. \nTickets will not be available at the door.
URL:https://dev.harfordhistory.org/event/spirits-of-christmas-past-candlelight-christmas-tour-10/
LOCATION:The Historical Society of Harford County\, 143 N Main St.\, Bel Air\, MD\, 21014\, United States
CATEGORIES:Community Events
ATTACH;FMTTYPE=image/jpeg:https://dev.harfordhistory.org/wp-content/uploads/2023/10/SoC-Graphic@4x-100.jpg
GEO:39.5386805;-76.3524738
X-APPLE-STRUCTURED-LOCATION;VALUE=URI;X-ADDRESS=The Historical Society of Harford County 143 N Main St. Bel Air MD 21014 United States;X-APPLE-RADIUS=500;X-TITLE=143 N Main St.:geo:-76.3524738,39.5386805
END:VEVENT
BEGIN:VEVENT
DTSTART;TZID=America/New_York:20240110T190000
DTEND;TZID=America/New_York:20240110T190000
DTSTAMP:20260421T103927
CREATED:20231211T152156Z
LAST-MODIFIED:20231211T152156Z
UID:10000195-1704913200-1704913200@dev.harfordhistory.org
SUMMARY:Genealogy Workshop
DESCRIPTION:The Historical Society’s January Genealogy program will focus on Problem Solving Techniques. As anyone who ever tried to delve into their family history knows\, there are always research challenges. Mary Schweers\, a Society’s genealogist\, will lead you through the mysteries of this research\, including the brick walls and other issues. You will discover the ways to analyze the situation and determine best research methods to work around these frustrating problems. We look forward to seeing you on Wednesday\, January 10th at 7 pm.
URL:https://dev.harfordhistory.org/event/genealogy-workshop-4/
LOCATION:The Historical Society of Harford County\, 143 N Main St.\, Bel Air\, MD\, 21014\, United States
CATEGORIES:Genealogy Workshop
ATTACH;FMTTYPE=image/gif:https://dev.harfordhistory.org/wp-content/uploads/2021/02/tree-coloring-page-535-e1672326604135.gif
GEO:39.5386805;-76.3524738
X-APPLE-STRUCTURED-LOCATION;VALUE=URI;X-ADDRESS=The Historical Society of Harford County 143 N Main St. Bel Air MD 21014 United States;X-APPLE-RADIUS=500;X-TITLE=143 N Main St.:geo:-76.3524738,39.5386805
END:VEVENT
BEGIN:VEVENT
DTSTART;TZID=America/New_York:20240206T123000
DTEND;TZID=America/New_York:20240206T123000
DTSTAMP:20260421T103927
CREATED:20231204T202507Z
LAST-MODIFIED:20231204T202546Z
UID:10000193-1707222600-1707222600@dev.harfordhistory.org
SUMMARY:The Maryland Lynching Memorial Project\, featuring Will Schwarz
DESCRIPTION:The Society will celebrate Black History Month with a special presentation by Will Schwarz\, President of the Maryland Lynching Memorial project. Mr. Schwarz will describe the purpose and findings of the Memorial Lynching project and detail the stories of three known racial terror lynchings in Harford County – Isaac Moore (1868)\, Jim Quinn (1869)\, and Lewis Harris (1900). The soil jars memorializing the victims in Harford County that were collected for the Memorial Project ceremony in 2022 are now on display at the Historical Society.
URL:https://dev.harfordhistory.org/event/the-maryland-lynching-memorial-project-featuring-will-schwarz/
LOCATION:The Historical Society of Harford County\, 143 N Main St.\, Bel Air\, MD\, 21014\, United States
CATEGORIES:Brown Bag Lunch Series
ATTACH;FMTTYPE=image/png:https://dev.harfordhistory.org/wp-content/uploads/2023/12/thumbnail_image002.png
GEO:39.5386805;-76.3524738
X-APPLE-STRUCTURED-LOCATION;VALUE=URI;X-ADDRESS=The Historical Society of Harford County 143 N Main St. Bel Air MD 21014 United States;X-APPLE-RADIUS=500;X-TITLE=143 N Main St.:geo:-76.3524738,39.5386805
END:VEVENT
BEGIN:VEVENT
DTSTART;TZID=America/New_York:20240210T140000
DTEND;TZID=America/New_York:20240210T140000
DTSTAMP:20260421T103927
CREATED:20231204T202906Z
LAST-MODIFIED:20231204T203144Z
UID:10000194-1707573600-1707573600@dev.harfordhistory.org
SUMMARY:The Story of the Ma & Pa Railroad\, featuring Walt Holloway
DESCRIPTION:Area residents have long been enamored by the unique rail line that snaked its way through Harford County’s farms and fields delivering products between Pennsylvania and Baltimore. Walt Holloway is the Historical Society’s resident expert on the railroad and will share his numerous photos and stories of the legendary part of County history.
URL:https://dev.harfordhistory.org/event/the-story-of-the-ma-pa-railroad-featuring-walt-holloway/
LOCATION:The Historical Society of Harford County\, 143 N Main St.\, Bel Air\, MD\, 21014\, United States
CATEGORIES:Oh, The Stories We Can Tell Series
ATTACH;FMTTYPE=image/png:https://dev.harfordhistory.org/wp-content/uploads/2022/12/ma-pa.png
GEO:39.5386805;-76.3524738
X-APPLE-STRUCTURED-LOCATION;VALUE=URI;X-ADDRESS=The Historical Society of Harford County 143 N Main St. Bel Air MD 21014 United States;X-APPLE-RADIUS=500;X-TITLE=143 N Main St.:geo:-76.3524738,39.5386805
END:VEVENT
END:VCALENDAR