BEGIN:VCALENDAR
VERSION:2.0
PRODID:-//The Historical Society of Harford County - ECPv6.15.20//NONSGML v1.0//EN
CALSCALE:GREGORIAN
METHOD:PUBLISH
X-WR-CALNAME:The Historical Society of Harford County
X-ORIGINAL-URL:https://dev.harfordhistory.org
X-WR-CALDESC:Events for The Historical Society of Harford County
REFRESH-INTERVAL;VALUE=DURATION:PT1H
X-Robots-Tag:noindex
X-PUBLISHED-TTL:PT1H
BEGIN:VTIMEZONE
TZID:America/New_York
BEGIN:DAYLIGHT
TZOFFSETFROM:-0500
TZOFFSETTO:-0400
TZNAME:EDT
DTSTART:20210314T070000
END:DAYLIGHT
BEGIN:STANDARD
TZOFFSETFROM:-0400
TZOFFSETTO:-0500
TZNAME:EST
DTSTART:20211107T060000
END:STANDARD
BEGIN:DAYLIGHT
TZOFFSETFROM:-0500
TZOFFSETTO:-0400
TZNAME:EDT
DTSTART:20220313T070000
END:DAYLIGHT
BEGIN:STANDARD
TZOFFSETFROM:-0400
TZOFFSETTO:-0500
TZNAME:EST
DTSTART:20221106T060000
END:STANDARD
BEGIN:DAYLIGHT
TZOFFSETFROM:-0500
TZOFFSETTO:-0400
TZNAME:EDT
DTSTART:20230312T070000
END:DAYLIGHT
BEGIN:STANDARD
TZOFFSETFROM:-0400
TZOFFSETTO:-0500
TZNAME:EST
DTSTART:20231105T060000
END:STANDARD
END:VTIMEZONE
BEGIN:VEVENT
DTSTART;TZID=America/New_York:20221011T123000
DTEND;TZID=America/New_York:20221011T123000
DTSTAMP:20260420T214538
CREATED:20220411T183033Z
LAST-MODIFIED:20220823T143623Z
UID:10000032-1665491400-1665491400@dev.harfordhistory.org
SUMMARY:The Archeology of the Bush Tavern & Surrounding Neighborhood
DESCRIPTION:In 2016\, archeologists with the State Highway Administration initiated an archeological dig at the Bush Tavern on Route 7 in Abingdon. During the Revolutionary War\, the tavern was part of the settlement known as Harford Town\, the county seat from 1774 to 1791. French troops under Rochambeau camped nearby during the War. The Bush Declaration was signed here by several county residents at “the risqué of our lives and our fortunes”. Aaron Levinthal\, a state archeologist\, and lab director involved with the dig noted\, “A slew of artifacts ‘that are related to every aspect of daily life\,’ has been found. They include food remains\, such as animal bones\, tableware\, cookware\, construction items\, wine bottles\, thimbles\, buttons\, pieces of tobacco pipes\, pieces of pens\, even slate pencils.” In his presentation\, Levinthal will share his findings and that of others involved in this exploration of Harford’s historic past.
URL:https://dev.harfordhistory.org/event/the-archeology-of-the-bush-tavern-surrounding-neighborhood/
LOCATION:Online Event
CATEGORIES:Brown Bag Lunch Series
ATTACH;FMTTYPE=image/jpeg:https://dev.harfordhistory.org/wp-content/uploads/2022/04/Picture3-1.jpg
END:VEVENT
END:VCALENDAR